BEGIN:VCALENDAR
VERSION:2.0
PRODID:-//Contratero//ES
CALSCALE:GREGORIAN
METHOD:PUBLISH
BEGIN:VEVENT
UID:042-SER-2021 SS@contratero.es
DTSTAMP:20260424T154958Z
DTSTART:20211202T235959
DTEND:20211203T005959
SUMMARY:Cierre: Suministro y servicios de implementación\, soporte 
DESCRIPTION:Suministro y servicios de implementación\, soporte técnico y actualización de versiones de un software especializado de conciliación bancaria.\\n\\nOrganismo: Gerencia de la Empresa Municipal de Aguas y Saneamiento de Murcia S.A.\\n\\nVer en Contratero: https://contratero.es/contracts/042-SER-2021 SS
URL:https://contratero.es/contracts/042-SER-2021 SS
STATUS:CONFIRMED
BEGIN:VALARM
TRIGGER:-P1D
ACTION:DISPLAY
DESCRIPTION:Recordatorio: Suministro y servicios de impl
END:VALARM
END:VEVENT
END:VCALENDAR